BEGIN:VCALENDAR
PRODID:-//Flo Inc.//FloSoft//EN
BEGIN:VEVENT
DTSTART;TZID='Perth':20200229T110000
DTEND;TZID='Perth':20200229T113000
LOCATION:3 Pettit Place, Lesmurdie
DESCRIPTION;ENCODING=ESCAPED-CHAR:Wow! A one of a kind, two-storey lifestyle home on a picturesque 2,667sqm block of land. Elevated, private and complete!\n\nWhat you get:\n•	A private driveway from your cul-de-sac street leads you down to the charming two storey home\n•	5 bedrooms include a guest room downstairs, and the 4 bedroom family zone upstairs\n•	Full length balcony with treetop views\n•	Double car garage/workshop/games room (also with treetop views)\n•	A commanding elevation to oversee your own private piece of forest\n•	RENOVATED bathrooms and kitchen\n•	SO MUCH POTENTIAL! Our imaginations are on overdrive thinking about the different ways you could personalise this home to make it one of the best in the hills.\n\nWhat You're Near:\n\nLesmurdie is a destination unto itself, but within this gorgeous hills community are some notable locations. Here are some - and this list is by no means exhausted.\n\n1)	Sanderson Rd Shopping Centre ~ 785 metres away\n2)	Mazenod College ~ 740 metres away\n3)	Award winning Pachamama Childcare centre ~ 585 metres away\n4)	Lesmurdie High School ~ 500 metres away\n5)	The wonderous Lesmurdie Falls National Park ~2.2 km away\n6)	Ray Owen Sports Centre and The Lesmurdie Primary School ~1.0km\n7)	St Brigid's College ~2km\nAnd a plethora of other great offerings, cafes, wineries, restaurants, parks, orchards and tourist attractions galore!\n\nSo browse through these pictures, which will certainly give you a taste of the  potential that this home has to offer your family, and then come on down and see it for yourself as soon as possible, as the feeling you will get when you're actually here is greater than my mere words can describe.\n\nAll home open visitors automatically go into a draw to win a dinner for 2 valued at $200
SUMMARY:3 Pettit Place, Lesmurdie at Porter Matthews Metro Real Estate
PRIORITY:3
END:VEVENT
END:VCALENDAR
