BEGIN:VCALENDAR
PRODID:-//Flo Inc.//FloSoft//EN
BEGIN:VEVENT
DTSTART;TZID='Perth':20200302T130000
DTEND;TZID='Perth':20200302T133000
LOCATION:20 Magpie Court, High Wycombe
DESCRIPTION;ENCODING=ESCAPED-CHAR:Tucked away from traffic on a quiet cul-de-sac, 20 Magpie Court is the perfect next-destination for your growing family. An exceptional home that proudly features six bedrooms, light and spacious living areas, semi covered pool, workshop, theatre room and renovated kitchen. This 1988 property has been updated, carefully refreshed and lovingly improved. It's packed with all those extra's you desire and all that space you could ever need. \n\nThe parents wing sits at the front of the home. There's a walk-in robe and private ensuite plus access to a theatre room directly opposite (far enough away from the other 5 bedrooms, there's no need to turn down your late-night Game of Thrones Marathon)! Frontal roller shutters have been installed here too to ensure your homes privacy and security all year round.  The secondary bedrooms are serviced by two other good-sized living area's and an upgraded bathroom. \n\nIn the heart of the home is the kitchen, overlooking indoor entertaining areas and providing garden glimpses. Huge and extensively renovated this chef's masterpiece includes everything. Plenty of soft closing storage, like-new stainless-steel cooking appliances, induction cooktop, dishwasher and a massive inbuilt island bench that can comfortably seat eight. \n\nOut the back there's a big workshop to secure all your tools and toys, conveniently solar powered along with the rest of the home. A gigantic gabled patio and sheltered pool means that you can happily entertain in any weather on any occasion, it's big enough for them all. There is no shortage of parking space for your guests either, with bonus room for a caravan or boat out the front. \n\nIn short:\n-	Magnificent 6 bedroom 2 bathroom home\n-	Quiet and secure location\n-	Renovated throughout\n-	Gorgeous chef's kitchen with stainless steel appliances.\n-	Air-conditioned\n-	Massive Gable patio and below ground pool\n-	Workshop\n-	Solar powered\n-	Security shutters\n\nDon't delay. Properties like this are rare. Get in touch today to register your interest.\n\nDisclaimer: Whilst every care has been taken in the preparation of this advertisement, accuracy cannot be guaranteed.  Prospective purchasers should make their own enquiries to satisfy themselves on all pertinent matters. Details herein do not constitute any representation by the Vendor or the agent and are expressly excluded from any contract.
SUMMARY:20 Magpie Court, High Wycombe at Porter Matthews Metro Real Estate
PRIORITY:3
END:VEVENT
END:VCALENDAR
