BEGIN:VCALENDAR
PRODID:-//Flo Inc.//FloSoft//EN
BEGIN:VEVENT
DTSTART;TZID='Perth':20200229T115000
DTEND;TZID='Perth':20200229T122000
LOCATION:19 Linden Way, Forrestfield
DESCRIPTION;ENCODING=ESCAPED-CHAR:Not only is this a spacious 5 bedroom home tucked away in a brilliant part of Forrestfield (near a great park and super quiet), but it has also been MASSIVELY modernised from the front to the back. Fully reimagined and renovated throughout, this home has been brought into the 21st century with elegance and style. \n \nAn incredibly updated kitchen forms the central heart of the home, with expansive views out to a resort style yard with huge patio and pool. Gorgeous stone benchtops, breakfast bar, soft closing drawers and stainless-steel appliances are just some of the features that you will appreciate here. There is space for entertaining the relatives or for recording the next hit home cooking show. \n\nThe home itself could be considered to include two distinct "wings". The front section which consists of the master bedroom plus study (or 5th bedroom) and the sunken front lounge, this is the parent's zone. At the properties rear, the additional 3 bedrooms all meet in their own distinct activity room, which can be shut off from the central hub if your kids are getting a little too boisterous and into their video games. \n\nBut video games might not even be a thing when you own a backyard like this one! The whole family will be enjoying the summer outdoors with a sparkling pool and a super impressive gabled patio overlooking your estate. As a bonus the owner has also included large shade sails for when the Summer sun is at its peak and you just want to soak in the shade. The garage includes a workshop corner, and a shopper's door through to the central meeting place of the home.\n\nThis home is elegant, very well planned, and sure to be the perfect fit for you and your family. \n\nIn Brief:\n•	Extensively renovated\n•	Neutral painting throughout plus easy-care floors.\n•	5 bedrooms and 2 bathrooms (or 4 bedrooms + study)\n•	Solar powered\n•	Air conditioned \n•	Front roller shutters\n•	Garage with workshop corner and shopper entry\n•	INCREDIBLE backyard: Pool, Gable Patio and Rose Garden\n\nDon't just scroll through these photos, call your favourite real estate team asap to your inspection.\nNick Mitchell 0415 833 131\nAlex Mitchell 0404 122 943
SUMMARY:19 Linden Way, Forrestfield at Porter Matthews Metro Real Estate
PRIORITY:3
END:VEVENT
END:VCALENDAR
